BEGIN:VCALENDAR
VERSION:2.0
PRODID:-//Housing Network RI - ECPv6.15.20//NONSGML v1.0//EN
CALSCALE:GREGORIAN
METHOD:PUBLISH
X-WR-CALNAME:Housing Network RI
X-ORIGINAL-URL:https://housingnetworkri.org
X-WR-CALDESC:Events for Housing Network RI
REFRESH-INTERVAL;VALUE=DURATION:PT1H
X-Robots-Tag:noindex
X-PUBLISHED-TTL:PT1H
BEGIN:VTIMEZONE
TZID:America/New_York
BEGIN:DAYLIGHT
TZOFFSETFROM:-0500
TZOFFSETTO:-0400
TZNAME:EDT
DTSTART:20230312T070000
END:DAYLIGHT
BEGIN:STANDARD
TZOFFSETFROM:-0400
TZOFFSETTO:-0500
TZNAME:EST
DTSTART:20231105T060000
END:STANDARD
BEGIN:DAYLIGHT
TZOFFSETFROM:-0500
TZOFFSETTO:-0400
TZNAME:EDT
DTSTART:20240310T070000
END:DAYLIGHT
BEGIN:STANDARD
TZOFFSETFROM:-0400
TZOFFSETTO:-0500
TZNAME:EST
DTSTART:20241103T060000
END:STANDARD
BEGIN:DAYLIGHT
TZOFFSETFROM:-0500
TZOFFSETTO:-0400
TZNAME:EDT
DTSTART:20250309T070000
END:DAYLIGHT
BEGIN:STANDARD
TZOFFSETFROM:-0400
TZOFFSETTO:-0500
TZNAME:EST
DTSTART:20251102T060000
END:STANDARD
END:VTIMEZONE
BEGIN:VEVENT
DTSTART;TZID=America/New_York:20240910T180000
DTEND;TZID=America/New_York:20240910T200000
DTSTAMP:20260421T061228
CREATED:20231121T164418Z
LAST-MODIFIED:20231122T165230Z
UID:2216-1725991200-1725998400@housingnetworkri.org
SUMMARY:Basic Homebuyer Education
DESCRIPTION:Eight (8) hours of group education for individuals who are interested in becoming first time homebuyers and want to learn more about the process from start to finish. \nLocation: Virtual\nSession meets on:  September 10\, 17\, 24\, and October 1.\nLanguage: English \nTo register\, call Aubrey Collins 401-846-5114 x111
URL:https://housingnetworkri.org/event/basic-homebuyer-education-47/
LOCATION:Virtual
CATEGORIES:Homebuyer Education
END:VEVENT
BEGIN:VEVENT
DTSTART;TZID=America/New_York:20240914T090000
DTEND;TZID=America/New_York:20240914T170000
DTSTAMP:20260421T061228
CREATED:20231128T211842Z
LAST-MODIFIED:20240221T160253Z
UID:2287-1726304400-1726333200@housingnetworkri.org
SUMMARY:Fast Track Basic Homebuyer Education
DESCRIPTION:Eight (8) hours of group education for individuals who have already begun the homebuying process and have a signed Purchase and Sales Agreement. \nLocation: Neighborworks Blackstone River Valley Homeownership Center\, 719 Front Street\, Suite 103\, Woonsocket\, RI 02895\nSession meets on: September 14\nLanguage: English \nPlease click here to register online. \nor \nFor more information call 401-762-0993 ext.209
URL:https://housingnetworkri.org/event/fast-track-homebuyer-education-30/
LOCATION:NeighborWorks Blackstone River Valley Homeownership Center\, 719 Front Street\, Suite 103\,\, Woonsocket\, RI\, 02895\, United States
CATEGORIES:Homebuyer Education
END:VEVENT
BEGIN:VEVENT
DTSTART;TZID=America/New_York:20240918T180000
DTEND;TZID=America/New_York:20240918T200000
DTSTAMP:20260421T061228
CREATED:20240102T184339Z
LAST-MODIFIED:20240102T184339Z
UID:2484-1726682400-1726689600@housingnetworkri.org
SUMMARY:Basic Homebuyer Education (Spanish)
DESCRIPTION:Eight (8) hours of group education for individuals who are interested in becoming first time homebuyers and want to learn more about the process from start to finish. \nLocation: Virtual\nSession meets on: September 18\, 28 & October 2\, 9.\nLanguage: Spanish \nTo register\, please call Dianny Melusky 401-726-1173 x12\nEmail dmelusky@pcfdevelopment.org
URL:https://housingnetworkri.org/event/basic-homebuyer-education-spanish-6/
LOCATION:Virtual
CATEGORIES:En Espanol,Homebuyer Education
ORGANIZER;CN="Pawtucket Central Falls Development":MAILTO:info@pcfdevelopment.org
END:VEVENT
BEGIN:VEVENT
DTSTART;TZID=America/New_York:20240921T090000
DTEND;TZID=America/New_York:20240921T130000
DTSTAMP:20260421T061228
CREATED:20231128T214953Z
LAST-MODIFIED:20231128T214953Z
UID:2307-1726909200-1726923600@housingnetworkri.org
SUMMARY:Landlord Education
DESCRIPTION:Three and a half (3.5) hours of group education for homebuyers who are interested in owning multifamily properties and becoming landlords. \nLocation: NeighborWorks Blackstone River Valley Homeownership Center\, 719 Front Street\, Suite 101\, Woonsocket RI 02895\nSession meets on: September 21\nLanguage: English \nPlease click here to register online. \nOr \nFor more information call 401-762-0993 ext.209
URL:https://housingnetworkri.org/event/landlord-education-39/
LOCATION:NeighborWorks Blackstone River Valley Homeownership Center\, 719 Front Street\, Suite 103\,\, Woonsocket\, RI\, 02895\, United States
CATEGORIES:Landlord Education
END:VEVENT
BEGIN:VEVENT
DTSTART;TZID=America/New_York:20240926T170000
DTEND;TZID=America/New_York:20240926T200000
DTSTAMP:20260421T061228
CREATED:20240102T184701Z
LAST-MODIFIED:20240102T184701Z
UID:2487-1727370000-1727380800@housingnetworkri.org
SUMMARY:Landlord Education (Spanish)
DESCRIPTION:Three (3) hours of group education for homebuyers who are interested in owning multifamily properties and becoming landlords. \nLocation: Virtual\nSession meets on: September 26\nLanguage: Spanish \nTo register\, please call Dianny Melusky 401-726-1173 x12\nEmail dmelusky@pcfdevelopment.org
URL:https://housingnetworkri.org/event/landlord-education-spanish-4/
LOCATION:Virtual
CATEGORIES:En Espanol,Landlord Education
ORGANIZER;CN="Pawtucket Central Falls Development":MAILTO:info@pcfdevelopment.org
END:VEVENT
BEGIN:VEVENT
DTSTART;TZID=America/New_York:20240928T090000
DTEND;TZID=America/New_York:20240928T170000
DTSTAMP:20260421T061228
CREATED:20231128T210937Z
LAST-MODIFIED:20240221T160333Z
UID:2268-1727514000-1727542800@housingnetworkri.org
SUMMARY:Fast Track Basic Homebuyer Education (Spanish)
DESCRIPTION:Eight (8) hours of group education for individuals who have already begun the homebuying process and have a signed Purchase and Sales Agreement. \nLocation: Neighborworks Blackstone River Valley Homeownership Center\, 719 Front Street\, Suite 103\, Woonsocket\, RI 02895\nSession meets on: September 28\nLanguage: Spanish \nPlease click here to register online. \nor \nFor more information call 401-762-0993 ext.209
URL:https://housingnetworkri.org/event/fast-track-homebuyer-education-spanish-27/
LOCATION:NeighborWorks Blackstone River Valley Homeownership Center\, 719 Front Street\, Suite 103\,\, Woonsocket\, RI\, 02895\, United States
CATEGORIES:Homebuyer Education
END:VEVENT
END:VCALENDAR