BEGIN:VCALENDAR
VERSION:2.0
PRODID:-//Housing Network RI - ECPv6.15.20//NONSGML v1.0//EN
CALSCALE:GREGORIAN
METHOD:PUBLISH
X-ORIGINAL-URL:https://housingnetworkri.org
X-WR-CALDESC:Events for Housing Network RI
REFRESH-INTERVAL;VALUE=DURATION:PT1H
X-Robots-Tag:noindex
X-PUBLISHED-TTL:PT1H
BEGIN:VTIMEZONE
TZID:America/New_York
BEGIN:DAYLIGHT
TZOFFSETFROM:-0500
TZOFFSETTO:-0400
TZNAME:EDT
DTSTART:20230312T070000
END:DAYLIGHT
BEGIN:STANDARD
TZOFFSETFROM:-0400
TZOFFSETTO:-0500
TZNAME:EST
DTSTART:20231105T060000
END:STANDARD
BEGIN:DAYLIGHT
TZOFFSETFROM:-0500
TZOFFSETTO:-0400
TZNAME:EDT
DTSTART:20240310T070000
END:DAYLIGHT
BEGIN:STANDARD
TZOFFSETFROM:-0400
TZOFFSETTO:-0500
TZNAME:EST
DTSTART:20241103T060000
END:STANDARD
BEGIN:DAYLIGHT
TZOFFSETFROM:-0500
TZOFFSETTO:-0400
TZNAME:EDT
DTSTART:20250309T070000
END:DAYLIGHT
BEGIN:STANDARD
TZOFFSETFROM:-0400
TZOFFSETTO:-0500
TZNAME:EST
DTSTART:20251102T060000
END:STANDARD
END:VTIMEZONE
BEGIN:VEVENT
DTSTART;TZID=America/New_York:20240803T090000
DTEND;TZID=America/New_York:20240803T170000
DTSTAMP:20260421T074320
CREATED:20231128T211757Z
LAST-MODIFIED:20240221T155736Z
UID:2285-1722675600-1722704400@housingnetworkri.org
SUMMARY:Fast Track Basic Homebuyer Education
DESCRIPTION:Eight (8) hours of group education for individuals who have already begun the homebuying process and have a signed Purchase and Sales Agreement. \nLocation: Neighborworks Blackstone River Valley Homeownership Center\, 719 Front Street\, Suite 103\, Woonsocket\, RI 02895\nSession meets on: August 3\nLanguage: English \nPlease click here to register online. \nor \nFor more information call 401-762-0993 ext.209
URL:https://housingnetworkri.org/event/fast-track-homebuyer-education-29/
LOCATION:NeighborWorks Blackstone River Valley Homeownership Center\, 719 Front Street\, Suite 103\,\, Woonsocket\, RI\, 02895\, United States
CATEGORIES:Homebuyer Education
END:VEVENT
BEGIN:VEVENT
DTSTART;TZID=America/New_York:20240810T090000
DTEND;TZID=America/New_York:20240810T130000
DTSTAMP:20260421T074320
CREATED:20231128T214859Z
LAST-MODIFIED:20231128T214859Z
UID:2305-1723280400-1723294800@housingnetworkri.org
SUMMARY:Landlord Education
DESCRIPTION:Three and a half (3.5) hours of group education for homebuyers who are interested in owning multifamily properties and becoming landlords. \nLocation: NeighborWorks Blackstone River Valley Homeownership Center\, 719 Front Street\, Suite 101\, Woonsocket RI 02895\nSession meets on: August 10\nLanguage: English \nPlease click here to register online. \nOr \nFor more information call 401-762-0993 ext.209
URL:https://housingnetworkri.org/event/landlord-education-38/
LOCATION:NeighborWorks Blackstone River Valley Homeownership Center\, 719 Front Street\, Suite 103\,\, Woonsocket\, RI\, 02895\, United States
CATEGORIES:Landlord Education
END:VEVENT
BEGIN:VEVENT
DTSTART;TZID=America/New_York:20240810T090000
DTEND;TZID=America/New_York:20240810T170000
DTSTAMP:20260421T074320
CREATED:20231120T213422Z
LAST-MODIFIED:20240221T155823Z
UID:2200-1723280400-1723309200@housingnetworkri.org
SUMMARY:Fast Track Basic Homebuyer Education
DESCRIPTION:Eight (8) hours of group education for individuals who are interested in becoming first time homebuyers and want to learn more about the process from start to finish. \nLocation: West Elmwood Housing\, 224 Dexter Street\, Providence\, RI 02907\nSession meets on : August  10.\nLanguage: English \nPlease click here to register online.
URL:https://housingnetworkri.org/event/fast-track-homebuyer-education-19/
LOCATION:West Elmwood Neighborworks Home Ownership Center\, 224 Dexter Street\, Providence\, RI\, 02907\, United States
CATEGORIES:En Espanol,Homebuyer Education
END:VEVENT
BEGIN:VEVENT
DTSTART;TZID=America/New_York:20240817T090000
DTEND;TZID=America/New_York:20240817T170000
DTSTAMP:20260421T074320
CREATED:20231128T210851Z
LAST-MODIFIED:20240221T155901Z
UID:2266-1723885200-1723914000@housingnetworkri.org
SUMMARY:Fast Track Basic Homebuyer Education (Spanish)
DESCRIPTION:Eight (8) hours of group education for individuals who have already begun the homebuying process and have a signed Purchase and Sales Agreement. \nLocation: Neighborworks Blackstone River Valley Homeownership Center\, 719 Front Street\, Suite 103\, Woonsocket\, RI 02895\nSession meets on: August 17\nLanguage: Spanish \nPlease click here to register online. \nor \nFor more information call 401-762-0993 ext.209
URL:https://housingnetworkri.org/event/fast-track-homebuyer-education-spanish-26/
LOCATION:NeighborWorks Blackstone River Valley Homeownership Center\, 719 Front Street\, Suite 103\,\, Woonsocket\, RI\, 02895\, United States
CATEGORIES:Homebuyer Education
END:VEVENT
BEGIN:VEVENT
DTSTART;TZID=America/New_York:20240821T180000
DTEND;TZID=America/New_York:20240821T200000
DTSTAMP:20260421T074320
CREATED:20240102T183255Z
LAST-MODIFIED:20240102T183255Z
UID:2475-1724263200-1724270400@housingnetworkri.org
SUMMARY:Basic Homebuyer Education
DESCRIPTION:Eight (8) hours of group education for individuals who are interested in becoming first time homebuyers and want to learn more about the process from start to finish. \nLocation: Virtual\nSession meets on: August 21\, 28 and  September 4\, 11.\nLanguage: English \nTo register\, please call Dianny Melusky 401-726-1173 x12\nEmail dmelusky@pcfdevelopment.org
URL:https://housingnetworkri.org/event/basic-homebuyer-education-51/
LOCATION:Virtual
CATEGORIES:Homebuyer Education
ORGANIZER;CN="Pawtucket Central Falls Development":MAILTO:info@pcfdevelopment.org
END:VEVENT
BEGIN:VEVENT
DTSTART;TZID=America/New_York:20240824T090000
DTEND;TZID=America/New_York:20240824T170000
DTSTAMP:20260421T074320
CREATED:20231120T211217Z
LAST-MODIFIED:20240221T155946Z
UID:2176-1724490000-1724518800@housingnetworkri.org
SUMMARY:Fast Track Basic Homebuyer Education (Spanish)
DESCRIPTION:Eight (8) hours of group education for individuals who are interested in becoming first time homebuyers and want to learn more about the process from start to finish. \nLocation: West Elmwood Housing\, 224 Dexter Street\, Providence\, RI 02907\nSession meets on : August 24.\nLanguage: Spanish \nPlease click here to register online.
URL:https://housingnetworkri.org/event/fast-track-homebuyer-education-spanish-18/
LOCATION:West Elmwood Neighborworks Home Ownership Center\, 224 Dexter Street\, Providence\, RI\, 02907\, United States
CATEGORIES:En Espanol,Homebuyer Education
END:VEVENT
END:VCALENDAR