BEGIN:VCALENDAR
VERSION:2.0
PRODID:-//Housing Network RI - ECPv6.15.20//NONSGML v1.0//EN
CALSCALE:GREGORIAN
METHOD:PUBLISH
X-ORIGINAL-URL:https://housingnetworkri.org
X-WR-CALDESC:Events for Housing Network RI
REFRESH-INTERVAL;VALUE=DURATION:PT1H
X-Robots-Tag:noindex
X-PUBLISHED-TTL:PT1H
BEGIN:VTIMEZONE
TZID:America/New_York
BEGIN:DAYLIGHT
TZOFFSETFROM:-0500
TZOFFSETTO:-0400
TZNAME:EDT
DTSTART:20230312T070000
END:DAYLIGHT
BEGIN:STANDARD
TZOFFSETFROM:-0400
TZOFFSETTO:-0500
TZNAME:EST
DTSTART:20231105T060000
END:STANDARD
BEGIN:DAYLIGHT
TZOFFSETFROM:-0500
TZOFFSETTO:-0400
TZNAME:EDT
DTSTART:20240310T070000
END:DAYLIGHT
BEGIN:STANDARD
TZOFFSETFROM:-0400
TZOFFSETTO:-0500
TZNAME:EST
DTSTART:20241103T060000
END:STANDARD
BEGIN:DAYLIGHT
TZOFFSETFROM:-0500
TZOFFSETTO:-0400
TZNAME:EDT
DTSTART:20250309T070000
END:DAYLIGHT
BEGIN:STANDARD
TZOFFSETFROM:-0400
TZOFFSETTO:-0500
TZNAME:EST
DTSTART:20251102T060000
END:STANDARD
END:VTIMEZONE
BEGIN:VEVENT
DTSTART;TZID=America/New_York:20240709T180000
DTEND;TZID=America/New_York:20240709T200000
DTSTAMP:20260421T085647
CREATED:20231120T195138Z
LAST-MODIFIED:20231120T195138Z
UID:2162-1720548000-1720555200@housingnetworkri.org
SUMMARY:Basic Homebuyer Education
DESCRIPTION:Eight (8) hours of group education for individuals who are interested in becoming first time homebuyers and want to learn more about the process from start to finish. \nLocation: West Elmwood Housing\, 224 Dexter Street\, Providence\, RI 02907\nSession meets on : July 9\, 16\, 23 and 30.\nLanguage: English \nPlease click here to register online.
URL:https://housingnetworkri.org/event/basic-homebuyer-education-41/
LOCATION:West Elmwood Neighborworks Home Ownership Center\, 224 Dexter Street\, Providence\, RI\, 02907\, United States
CATEGORIES:Homebuyer Education
END:VEVENT
BEGIN:VEVENT
DTSTART;TZID=America/New_York:20240710T180000
DTEND;TZID=America/New_York:20240710T200000
DTSTAMP:20260421T085647
CREATED:20231120T212657Z
LAST-MODIFIED:20240221T155620Z
UID:2188-1720634400-1720641600@housingnetworkri.org
SUMMARY:Basic Homebuyer Education (Spanish)
DESCRIPTION:Eight (8) hours of group education for individuals who are interested in becoming first time homebuyers and want to learn more about the process from start to finish. \nLocation: West Elmwood Housing\, 224 Dexter Street\, Providence\, RI 02907\nSession meets on : July  10\, 17\, 24\, and 31.\nLanguage: Spanish \nPlease click here to register online.
URL:https://housingnetworkri.org/event/homebuyer-education-spanish-3/
LOCATION:West Elmwood Neighborworks Home Ownership Center\, 224 Dexter Street\, Providence\, RI\, 02907\, United States
CATEGORIES:En Espanol,Homebuyer Education
END:VEVENT
BEGIN:VEVENT
DTSTART;TZID=America/New_York:20240720T090000
DTEND;TZID=America/New_York:20240720T170000
DTSTAMP:20260421T085647
CREATED:20231128T211709Z
LAST-MODIFIED:20240221T155655Z
UID:2283-1721466000-1721494800@housingnetworkri.org
SUMMARY:Fast Track Basic Homebuyer Education
DESCRIPTION:Eight (8) hours of group education for individuals who have already begun the homebuying process and have a signed Purchase and Sales Agreement. \nLocation: Neighborworks Blackstone River Valley Homeownership Center\, 719 Front Street\, Suite 103\, Woonsocket\, RI 02895\nSession meets on: July 20\nLanguage: English \nPlease click here to register online. \nor \nFor more information call 401-762-0993 ext.209
URL:https://housingnetworkri.org/event/fast-track-homebuyer-education-28/
LOCATION:NeighborWorks Blackstone River Valley Homeownership Center\, 719 Front Street\, Suite 103\,\, Woonsocket\, RI\, 02895\, United States
CATEGORIES:Homebuyer Education
END:VEVENT
BEGIN:VEVENT
DTSTART;TZID=America/New_York:20240725T170000
DTEND;TZID=America/New_York:20240725T200000
DTSTAMP:20260421T085647
CREATED:20240102T183750Z
LAST-MODIFIED:20240102T183750Z
UID:2479-1721926800-1721937600@housingnetworkri.org
SUMMARY:Landlord Education
DESCRIPTION:Three (3) hours of group education for homebuyers who are interested in owning multifamily properties and becoming landlords. \nLocation: Virtual\nSession meets on: July 25.\nLanguage: English \nTo register\, please call Dianny Melusky 401-726-1173 x12\nEmail dmelusky@pcfdevelopment.org
URL:https://housingnetworkri.org/event/landlord-education-53/
LOCATION:Virtual
CATEGORIES:Landlord Education
ORGANIZER;CN="Pawtucket Central Falls Development":MAILTO:info@pcfdevelopment.org
END:VEVENT
BEGIN:VEVENT
DTSTART;TZID=America/New_York:20240727T090000
DTEND;TZID=America/New_York:20240727T130000
DTSTAMP:20260421T085647
CREATED:20231128T214751Z
LAST-MODIFIED:20231128T214751Z
UID:2303-1722070800-1722085200@housingnetworkri.org
SUMMARY:Landlord Education
DESCRIPTION:Three and a half (3.5) hours of group education for homebuyers who are interested in owning multifamily properties and becoming landlords. \nLocation: NeighborWorks Blackstone River Valley Homeownership Center\, 719 Front Street\, Suite 101\, Woonsocket RI 02895\nSession meets on: July 27\nLanguage: English \nPlease click here to register online. \nOr \nFor more information call 401-762-0993 ext.209
URL:https://housingnetworkri.org/event/landlord-education-37/
LOCATION:NeighborWorks Blackstone River Valley Homeownership Center\, 719 Front Street\, Suite 103\,\, Woonsocket\, RI\, 02895\, United States
CATEGORIES:Landlord Education
END:VEVENT
END:VCALENDAR